BEGIN:VCALENDAR
VERSION:2.0
PRODID:-//Auburn Bay Community Association - ECPv5.8.1//NONSGML v1.0//EN
CALSCALE:GREGORIAN
METHOD:PUBLISH
X-WR-CALNAME:Auburn Bay Community Association
X-ORIGINAL-URL:https://auburnbayca.ca
X-WR-CALDESC:Events for Auburn Bay Community Association
BEGIN:VTIMEZONE
TZID:America/Edmonton
BEGIN:DAYLIGHT
TZOFFSETFROM:-0700
TZOFFSETTO:-0600
TZNAME:MDT
DTSTART:20200308T090000
END:DAYLIGHT
BEGIN:STANDARD
TZOFFSETFROM:-0600
TZOFFSETTO:-0700
TZNAME:MST
DTSTART:20201101T080000
END:STANDARD
END:VTIMEZONE
BEGIN:VEVENT
DTSTART;TZID=America/Edmonton:20200926T090000
DTEND;TZID=America/Edmonton:20200926T140000
DTSTAMP:20260419T095758
CREATED:20200920T154013Z
LAST-MODIFIED:20200920T165733Z
UID:2118-1601110800-1601128800@auburnbayca.ca
SUMMARY:Community Clean Up
DESCRIPTION:We will be hosting an informal community clean up\, on Saturday September 26th\, 2020 from 9:00 am to 2:00 pm. \nServices on hand will be: Electronics recycling\, donations (W.I.N.S.)\, metal recycling\, and garbage collection will be private by cash donation to Mental Health Awareness.  Food trucks from 11:00 am – 1:00 pm. \nDonations: clothing\, small household items\, and even furniture. \nTo book your time slot to deliver your items.  Here is the Site Map as well.  \nIf you are looking to donate a bit of your time and pick up garbage within the community we will have bags and gloves available at the CA table in the parking lot.  Please Sign Up Here\, to ensure that we will have enough treats for everyone\, since we will be unable to host our usual BBQ. \nWe look forward to seeing you there. \nFor anyone looking to dispose of paint cans or other hazardous waste here is the List of Locations within the city. \n 
URL:https://auburnbayca.ca/event/community-clean-up/
LOCATION:Prince of Peace School\, 43 Auburn Meadows Blvd SE\, Calgary\, Alberta\, T3M2C9\, Canada
CATEGORIES:Community Event
ATTACH;FMTTYPE=image/jpeg:https://auburnbayca.ca/wp-content/uploads/2020/02/GetInvolved-scaled.jpeg
END:VEVENT
END:VCALENDAR