BEGIN:VCALENDAR
VERSION:2.0
PRODID:-//Auburn Bay Community Association - ECPv5.8.1//NONSGML v1.0//EN
CALSCALE:GREGORIAN
METHOD:PUBLISH
X-WR-CALNAME:Auburn Bay Community Association
X-ORIGINAL-URL:https://auburnbayca.ca
X-WR-CALDESC:Events for Auburn Bay Community Association
BEGIN:VTIMEZONE
TZID:America/Edmonton
BEGIN:DAYLIGHT
TZOFFSETFROM:-0700
TZOFFSETTO:-0600
TZNAME:MDT
DTSTART:20200308T090000
END:DAYLIGHT
BEGIN:STANDARD
TZOFFSETFROM:-0600
TZOFFSETTO:-0700
TZNAME:MST
DTSTART:20201101T080000
END:STANDARD
END:VTIMEZONE
BEGIN:VEVENT
DTSTART;TZID=America/Edmonton:20200902T190000
DTEND;TZID=America/Edmonton:20200902T210000
DTSTAMP:20260419T064614
CREATED:20200831T021552Z
LAST-MODIFIED:20200831T021645Z
UID:2102-1599073200-1599080400@auburnbayca.ca
SUMMARY:CA Online Meeting - September 2nd\, 2020 - 7 pm
DESCRIPTION:Wednesday September 2nd\, 2020 – To RSVP \nBy Computer: Join the Meeting \nBy Phone: Call +1 587-688-3270‬ PIN: ‪394 004 564‬#\, if using a smart phone t may request you to download the app. To mute / unmute your phone use *6. \nPlease see the copy of the Agenda  \nPlease see the copy of the Minutes \nThank you\,
URL:https://auburnbayca.ca/event/ca-online-meeting-september-2nd-2020-7-pm-2/
LOCATION:Online\, Canada
CATEGORIES:Meetings
ORGANIZER;CN="ABCA":MAILTO:info@auburnbayca.ca
END:VEVENT
END:VCALENDAR