BEGIN:VCALENDAR
VERSION:2.0
PRODID:-//Auburn Bay Community Association - ECPv5.8.1//NONSGML v1.0//EN
CALSCALE:GREGORIAN
METHOD:PUBLISH
X-WR-CALNAME:Auburn Bay Community Association
X-ORIGINAL-URL:https://auburnbayca.ca
X-WR-CALDESC:Events for Auburn Bay Community Association
BEGIN:VTIMEZONE
TZID:America/Edmonton
BEGIN:DAYLIGHT
TZOFFSETFROM:-0700
TZOFFSETTO:-0600
TZNAME:MDT
DTSTART:20200308T090000
END:DAYLIGHT
BEGIN:STANDARD
TZOFFSETFROM:-0600
TZOFFSETTO:-0700
TZNAME:MST
DTSTART:20201101T080000
END:STANDARD
END:VTIMEZONE
BEGIN:VEVENT
DTSTART;VALUE=DATE:20200701
DTEND;VALUE=DATE:20201001
DTSTAMP:20260421T041704
CREATED:20200306T145856Z
LAST-MODIFIED:20200407T011105Z
UID:1522-1593561600-1601510399@auburnbayca.ca
SUMMARY:POSTPONED - Auburn Bay Parade of Garage Sales
DESCRIPTION:Date – TBD
URL:https://auburnbayca.ca/event/auburn-bay-parade-of-garage-sales/
END:VEVENT
END:VCALENDAR