BEGIN:VCALENDAR
VERSION:2.0
PRODID:-//Auburn Bay Community Association - ECPv5.8.1//NONSGML v1.0//EN
CALSCALE:GREGORIAN
METHOD:PUBLISH
X-WR-CALNAME:Auburn Bay Community Association
X-ORIGINAL-URL:https://auburnbayca.ca
X-WR-CALDESC:Events for Auburn Bay Community Association
BEGIN:VTIMEZONE
TZID:America/Edmonton
BEGIN:DAYLIGHT
TZOFFSETFROM:-0700
TZOFFSETTO:-0600
TZNAME:MDT
DTSTART:20210314T090000
END:DAYLIGHT
BEGIN:STANDARD
TZOFFSETFROM:-0600
TZOFFSETTO:-0700
TZNAME:MST
DTSTART:20211107T080000
END:STANDARD
END:VTIMEZONE
BEGIN:VEVENT
DTSTART;TZID=America/Edmonton:20210605T100000
DTEND;TZID=America/Edmonton:20210605T140000
DTSTAMP:20260419T113402
CREATED:20210526T153150Z
LAST-MODIFIED:20210531T015225Z
UID:2445-1622887200-1622901600@auburnbayca.ca
SUMMARY:Auburn Bay Community Clean Up
DESCRIPTION:We will be hosting an Auburn Bay Greenspace & Parks community clean up\, on Saturday June 5th\, 2021 from 10:00 am to 2:00 pm. \nTo be AHS compliant we are asking everyone to sign up for a location for your household by SIGNING UP HERE and to maintain physical distancing while in the community. \nThank you for donating your time to help clean up some of the important parts of our community.  We look forward to seeing you soon!  \n  \n 
URL:https://auburnbayca.ca/event/auburn-bay-community-clean-up/
LOCATION:Prince of Peace School\, 43 Auburn Meadows Blvd SE\, Calgary\, Alberta\, T3M2C9\, Canada
CATEGORIES:ABCA Planned Community Event,Community Event
END:VEVENT
END:VCALENDAR